BEGIN:VCALENDAR
VERSION:2.0
PRODID:-//Carnavalsvereniging de Leertrekkers - ECPv6.15.20//NONSGML v1.0//EN
CALSCALE:GREGORIAN
METHOD:PUBLISH
X-ORIGINAL-URL:https://leertrekkers.nl
X-WR-CALDESC:Evenementen voor Carnavalsvereniging de Leertrekkers
REFRESH-INTERVAL;VALUE=DURATION:PT1H
X-Robots-Tag:noindex
X-PUBLISHED-TTL:PT1H
BEGIN:VTIMEZONE
TZID:UTC
BEGIN:STANDARD
TZOFFSETFROM:+0000
TZOFFSETTO:+0000
TZNAME:UTC
DTSTART:20240101T000000
END:STANDARD
END:VTIMEZONE
BEGIN:VEVENT
DTSTART;TZID=UTC:20250510T090000
DTEND;TZID=UTC:20250510T120000
DTSTAMP:20260423T090842
CREATED:20250126T133339Z
LAST-MODIFIED:20250126T133339Z
UID:2683-1746867600-1746878400@leertrekkers.nl
SUMMARY:Geraniumactie 2025
DESCRIPTION:
URL:https://leertrekkers.nl/event/geraniumactie-2025/
LOCATION:Gildehuis\, Pastoor van Sonsbeeckstraat 4\, Stökkum\, Nederland
END:VEVENT
END:VCALENDAR