BEGIN:VCALENDAR
VERSION:2.0
PRODID:-//Carnavalsvereniging de Leertrekkers - ECPv6.15.20//NONSGML v1.0//EN
CALSCALE:GREGORIAN
METHOD:PUBLISH
X-WR-CALNAME:Carnavalsvereniging de Leertrekkers
X-ORIGINAL-URL:https://leertrekkers.nl
X-WR-CALDESC:Evenementen voor Carnavalsvereniging de Leertrekkers
REFRESH-INTERVAL;VALUE=DURATION:PT1H
X-Robots-Tag:noindex
X-PUBLISHED-TTL:PT1H
BEGIN:VTIMEZONE
TZID:UTC
BEGIN:STANDARD
TZOFFSETFROM:+0000
TZOFFSETTO:+0000
TZNAME:UTC
DTSTART:20240101T000000
END:STANDARD
END:VTIMEZONE
BEGIN:VEVENT
DTSTART;VALUE=DATE:20250104
DTEND;VALUE=DATE:20250105
DTSTAMP:20260423T153842
CREATED:20231026T170752Z
LAST-MODIFIED:20240904T141522Z
UID:2214-1735948800-1736035199@leertrekkers.nl
SUMMARY:Plaatsbespreken januari pronkzitting
DESCRIPTION:
URL:https://leertrekkers.nl/event/plaatsbespreken-januari-pronkzitting/
LOCATION:Gildehuis\, Pastoor van Sonsbeeckstraat 4\, Stökkum\, Nederland
END:VEVENT
BEGIN:VEVENT
DTSTART;VALUE=DATE:20250118
DTEND;VALUE=DATE:20250119
DTSTAMP:20260423T153842
CREATED:20231026T170845Z
LAST-MODIFIED:20240904T141551Z
UID:2216-1737158400-1737244799@leertrekkers.nl
SUMMARY:Januari pronkzitting
DESCRIPTION:
URL:https://leertrekkers.nl/event/januari-pronkzitting/
LOCATION:Gildehuis\, Pastoor van Sonsbeeckstraat 4\, Stökkum\, Nederland
END:VEVENT
BEGIN:VEVENT
DTSTART;VALUE=DATE:20250119
DTEND;VALUE=DATE:20250120
DTSTAMP:20260423T153842
CREATED:20231218T103950Z
LAST-MODIFIED:20240904T141630Z
UID:2222-1737244800-1737331199@leertrekkers.nl
SUMMARY:Jeugdpronkzitting
DESCRIPTION:
URL:https://leertrekkers.nl/event/jeugdpronkzitting-2/
LOCATION:Gildehuis\, Pastoor van Sonsbeeckstraat 4\, Stökkum\, Nederland
END:VEVENT
END:VCALENDAR