BEGIN:VCALENDAR
VERSION:2.0
PRODID:-//Carnavalsvereniging de Leertrekkers - ECPv6.15.20//NONSGML v1.0//EN
CALSCALE:GREGORIAN
METHOD:PUBLISH
X-ORIGINAL-URL:https://leertrekkers.nl
X-WR-CALDESC:Evenementen voor Carnavalsvereniging de Leertrekkers
REFRESH-INTERVAL;VALUE=DURATION:PT1H
X-Robots-Tag:noindex
X-PUBLISHED-TTL:PT1H
BEGIN:VTIMEZONE
TZID:UTC
BEGIN:STANDARD
TZOFFSETFROM:+0000
TZOFFSETTO:+0000
TZNAME:UTC
DTSTART:20240101T000000
END:STANDARD
END:VTIMEZONE
BEGIN:VEVENT
DTSTART;VALUE=DATE:20250118
DTEND;VALUE=DATE:20250119
DTSTAMP:20260423T203346
CREATED:20231026T170845Z
LAST-MODIFIED:20240904T141551Z
UID:2216-1737158400-1737244799@leertrekkers.nl
SUMMARY:Januari pronkzitting
DESCRIPTION:
URL:https://leertrekkers.nl/event/januari-pronkzitting/
LOCATION:Gildehuis\, Pastoor van Sonsbeeckstraat 4\, Stökkum\, Nederland
END:VEVENT
BEGIN:VEVENT
DTSTART;VALUE=DATE:20250119
DTEND;VALUE=DATE:20250120
DTSTAMP:20260423T203346
CREATED:20231218T103950Z
LAST-MODIFIED:20240904T141630Z
UID:2222-1737244800-1737331199@leertrekkers.nl
SUMMARY:Jeugdpronkzitting
DESCRIPTION:
URL:https://leertrekkers.nl/event/jeugdpronkzitting-2/
LOCATION:Gildehuis\, Pastoor van Sonsbeeckstraat 4\, Stökkum\, Nederland
END:VEVENT
BEGIN:VEVENT
DTSTART;TZID=UTC:20250222T201100
DTEND;TZID=UTC:20250222T235900
DTSTAMP:20260423T203346
CREATED:20231026T171049Z
LAST-MODIFIED:20250202T131055Z
UID:2218-1740255060-1740268740@leertrekkers.nl
SUMMARY:Wi-j beginne vas
DESCRIPTION:
URL:https://leertrekkers.nl/event/wi-j-beginne-vas-2/
LOCATION:Gildehuis\, Pastoor van Sonsbeeckstraat 4\, Stökkum\, Nederland
END:VEVENT
BEGIN:VEVENT
DTSTART;VALUE=DATE:20250302
DTEND;VALUE=DATE:20250305
DTSTAMP:20260423T203346
CREATED:20231001T094215Z
LAST-MODIFIED:20240408T134454Z
UID:2211-1740873600-1741132799@leertrekkers.nl
SUMMARY:CARNAVAL 2025
DESCRIPTION:
URL:https://leertrekkers.nl/event/carnaval-2025/
END:VEVENT
BEGIN:VEVENT
DTSTART;TZID=UTC:20250302T104900
DTEND;TZID=UTC:20250302T120000
DTSTAMP:20260423T203346
CREATED:20250202T131233Z
LAST-MODIFIED:20250202T131233Z
UID:2709-1740912540-1740916800@leertrekkers.nl
SUMMARY:Carnavalsviering en bekendmaking straatversieren-winnaars
DESCRIPTION:
URL:https://leertrekkers.nl/event/carnavalsviering-en-bekendmaking-straatversieren-winnaars/
LOCATION:Kerk Stokkum\, Pastoor van Sonsbeeckstraat 24\, Stokkum\, 7039 AJ\, Netherlands
END:VEVENT
BEGIN:VEVENT
DTSTART;TZID=UTC:20250303T203300
DTEND;TZID=UTC:20250303T235900
DTSTAMP:20260423T203346
CREATED:20250202T131313Z
LAST-MODIFIED:20250202T131313Z
UID:2712-1741033980-1741046340@leertrekkers.nl
SUMMARY:Rosenmontag
DESCRIPTION:
URL:https://leertrekkers.nl/event/rosenmontag/
LOCATION:Gildehuis\, Pastoor van Sonsbeeckstraat 4\, Stökkum\, Nederland
END:VEVENT
BEGIN:VEVENT
DTSTART;TZID=UTC:20250304T201100
DTEND;TZID=UTC:20250304T203000
DTSTAMP:20260423T203346
CREATED:20250202T131345Z
LAST-MODIFIED:20250202T131345Z
UID:2714-1741119060-1741120200@leertrekkers.nl
SUMMARY:Jeugd popverbranden
DESCRIPTION:
URL:https://leertrekkers.nl/event/jeugd-popverbranden/
LOCATION:Gildehuis\, Pastoor van Sonsbeeckstraat 4\, Stökkum\, Nederland
END:VEVENT
BEGIN:VEVENT
DTSTART;TZID=UTC:20250304T203300
DTEND;TZID=UTC:20250304T235900
DTSTAMP:20260423T203346
CREATED:20250202T131410Z
LAST-MODIFIED:20250202T131410Z
UID:2716-1741120380-1741132740@leertrekkers.nl
SUMMARY:Vaste’Laovendsbal en pop verbranden
DESCRIPTION:
URL:https://leertrekkers.nl/event/vastelaovendsbal-en-pop-verbranden/
LOCATION:Gildehuis\, Pastoor van Sonsbeeckstraat 4\, Stökkum\, Nederland
END:VEVENT
BEGIN:VEVENT
DTSTART;TZID=UTC:20250510T090000
DTEND;TZID=UTC:20250510T120000
DTSTAMP:20260423T203346
CREATED:20250126T133339Z
LAST-MODIFIED:20250126T133339Z
UID:2683-1746867600-1746878400@leertrekkers.nl
SUMMARY:Geraniumactie 2025
DESCRIPTION:
URL:https://leertrekkers.nl/event/geraniumactie-2025/
LOCATION:Gildehuis\, Pastoor van Sonsbeeckstraat 4\, Stökkum\, Nederland
END:VEVENT
BEGIN:VEVENT
DTSTART;TZID=UTC:20251101T160000
DTEND;TZID=UTC:20251101T180000
DTSTAMP:20260423T203346
CREATED:20250126T133434Z
LAST-MODIFIED:20250126T133434Z
UID:2685-1762012800-1762020000@leertrekkers.nl
SUMMARY:Plaats bespreken november 2025
DESCRIPTION:
URL:https://leertrekkers.nl/event/plaats-bespreken-november-2025/
LOCATION:Gildehuis\, Pastoor van Sonsbeeckstraat 4\, Stökkum\, Nederland
END:VEVENT
BEGIN:VEVENT
DTSTART;TZID=UTC:20251115T190000
DTEND;TZID=UTC:20251115T230000
DTSTAMP:20260423T203346
CREATED:20250126T133519Z
LAST-MODIFIED:20250126T133519Z
UID:2688-1763233200-1763247600@leertrekkers.nl
SUMMARY:Pronkzitting november 2025
DESCRIPTION:
URL:https://leertrekkers.nl/event/pronkzitting-november-2025/
LOCATION:Gildehuis\, Pastoor van Sonsbeeckstraat 4\, Stökkum\, Nederland
END:VEVENT
BEGIN:VEVENT
DTSTART;TZID=UTC:20251128T200000
DTEND;TZID=UTC:20251128T230000
DTSTAMP:20260423T203346
CREATED:20250126T133610Z
LAST-MODIFIED:20250126T133610Z
UID:2690-1764360000-1764370800@leertrekkers.nl
SUMMARY:Jaarvergadering 2025
DESCRIPTION:
URL:https://leertrekkers.nl/event/jaarvergadering-2025/
LOCATION:Gildehuis\, Pastoor van Sonsbeeckstraat 4\, Stökkum\, Nederland
END:VEVENT
BEGIN:VEVENT
DTSTART;TZID=UTC:20260103T160000
DTEND;TZID=UTC:20260103T180000
DTSTAMP:20260423T203346
CREATED:20250126T133708Z
LAST-MODIFIED:20250126T133708Z
UID:2692-1767456000-1767463200@leertrekkers.nl
SUMMARY:Plaats bespreken januari 2026
DESCRIPTION:
URL:https://leertrekkers.nl/event/plaats-bespreken-januari-2026/
LOCATION:Gildehuis\, Pastoor van Sonsbeeckstraat 4\, Stökkum\, Nederland
END:VEVENT
BEGIN:VEVENT
DTSTART;TZID=UTC:20260117T190000
DTEND;TZID=UTC:20260117T230000
DTSTAMP:20260423T203346
CREATED:20250126T133801Z
LAST-MODIFIED:20250126T133801Z
UID:2694-1768676400-1768690800@leertrekkers.nl
SUMMARY:Pronkzitting januari 2026
DESCRIPTION:
URL:https://leertrekkers.nl/event/pronkzitting-januari-2026/
LOCATION:Gildehuis\, Pastoor van Sonsbeeckstraat 4\, Stökkum\, Nederland
END:VEVENT
BEGIN:VEVENT
DTSTART;TZID=UTC:20260118T140000
DTEND;TZID=UTC:20260118T170000
DTSTAMP:20260423T203346
CREATED:20250126T133836Z
LAST-MODIFIED:20250126T133836Z
UID:2696-1768744800-1768755600@leertrekkers.nl
SUMMARY:Jeugdpronkzitting 2026
DESCRIPTION:
URL:https://leertrekkers.nl/event/jeugdpronkzitting-2026/
LOCATION:Gildehuis\, Pastoor van Sonsbeeckstraat 4\, Stökkum\, Nederland
END:VEVENT
BEGIN:VEVENT
DTSTART;TZID=UTC:20260207T201100
DTEND;TZID=UTC:20260207T235900
DTSTAMP:20260423T203346
CREATED:20251128T111045Z
LAST-MODIFIED:20251128T111045Z
UID:3100-1770495060-1770508740@leertrekkers.nl
SUMMARY:Wi-j beginne vas 2026
DESCRIPTION:
URL:https://leertrekkers.nl/event/wi-j-beginne-vas-2026/
LOCATION:Gildehuis\, Pastoor van Sonsbeeckstraat 4\, Stökkum\, Nederland
END:VEVENT
BEGIN:VEVENT
DTSTART;VALUE=DATE:20260215
DTEND;VALUE=DATE:20260218
DTSTAMP:20260423T203346
CREATED:20251128T111135Z
LAST-MODIFIED:20251128T111135Z
UID:3102-1771113600-1771372799@leertrekkers.nl
SUMMARY:CARNAVAL 2026
DESCRIPTION:
URL:https://leertrekkers.nl/event/carnaval-2026/
END:VEVENT
BEGIN:VEVENT
DTSTART;TZID=UTC:20260509T090000
DTEND;TZID=UTC:20260509T120000
DTSTAMP:20260423T203346
CREATED:20251128T111229Z
LAST-MODIFIED:20251128T111229Z
UID:3104-1778317200-1778328000@leertrekkers.nl
SUMMARY:Geraniumactie 2026
DESCRIPTION:
URL:https://leertrekkers.nl/event/geraniumactie-2026/
LOCATION:Gildehuis\, Pastoor van Sonsbeeckstraat 4\, Stökkum\, Nederland
END:VEVENT
BEGIN:VEVENT
DTSTART;TZID=UTC:20261107T160000
DTEND;TZID=UTC:20261107T180000
DTSTAMP:20260423T203346
CREATED:20251128T111328Z
LAST-MODIFIED:20251128T111328Z
UID:3106-1794067200-1794074400@leertrekkers.nl
SUMMARY:Plaatsbespreken november 2026
DESCRIPTION:
URL:https://leertrekkers.nl/event/plaatsbespreken-november-2026/
LOCATION:Gildehuis\, Pastoor van Sonsbeeckstraat 4\, Stökkum\, Nederland
END:VEVENT
BEGIN:VEVENT
DTSTART;TZID=UTC:20261121T190000
DTEND;TZID=UTC:20261121T233000
DTSTAMP:20260423T203346
CREATED:20251128T111419Z
LAST-MODIFIED:20251128T111419Z
UID:3108-1795287600-1795303800@leertrekkers.nl
SUMMARY:Pronkzitting november 2026
DESCRIPTION:
URL:https://leertrekkers.nl/event/pronkzitting-november-2026/
LOCATION:Gildehuis\, Pastoor van Sonsbeeckstraat 4\, Stökkum\, Nederland
END:VEVENT
BEGIN:VEVENT
DTSTART;TZID=UTC:20261204T200000
DTEND;TZID=UTC:20261204T230000
DTSTAMP:20260423T203346
CREATED:20251128T111510Z
LAST-MODIFIED:20251128T111510Z
UID:3110-1796414400-1796425200@leertrekkers.nl
SUMMARY:Jaarvergadering 2026
DESCRIPTION:
URL:https://leertrekkers.nl/event/jaarvergadering-2026/
LOCATION:Gildehuis\, Pastoor van Sonsbeeckstraat 4\, Stökkum\, Nederland
END:VEVENT
END:VCALENDAR