BEGIN:VCALENDAR
VERSION:2.0
PRODID:-//Carnavalsvereniging de Leertrekkers - ECPv6.15.20//NONSGML v1.0//EN
CALSCALE:GREGORIAN
METHOD:PUBLISH
X-WR-CALNAME:Carnavalsvereniging de Leertrekkers
X-ORIGINAL-URL:https://leertrekkers.nl
X-WR-CALDESC:Evenementen voor Carnavalsvereniging de Leertrekkers
REFRESH-INTERVAL;VALUE=DURATION:PT1H
X-Robots-Tag:noindex
X-PUBLISHED-TTL:PT1H
BEGIN:VTIMEZONE
TZID:UTC
BEGIN:STANDARD
TZOFFSETFROM:+0000
TZOFFSETTO:+0000
TZNAME:UTC
DTSTART:20240101T000000
END:STANDARD
END:VTIMEZONE
BEGIN:VEVENT
DTSTART;VALUE=DATE:20250302
DTEND;VALUE=DATE:20250305
DTSTAMP:20260423T134204
CREATED:20231001T094215Z
LAST-MODIFIED:20240408T134454Z
UID:2211-1740873600-1741132799@leertrekkers.nl
SUMMARY:CARNAVAL 2025
DESCRIPTION:
URL:https://leertrekkers.nl/event/carnaval-2025/
END:VEVENT
BEGIN:VEVENT
DTSTART;TZID=UTC:20250304T201100
DTEND;TZID=UTC:20250304T203000
DTSTAMP:20260423T134204
CREATED:20250202T131345Z
LAST-MODIFIED:20250202T131345Z
UID:2714-1741119060-1741120200@leertrekkers.nl
SUMMARY:Jeugd popverbranden
DESCRIPTION:
URL:https://leertrekkers.nl/event/jeugd-popverbranden/
LOCATION:Gildehuis\, Pastoor van Sonsbeeckstraat 4\, Stökkum\, Nederland
END:VEVENT
BEGIN:VEVENT
DTSTART;TZID=UTC:20250304T203300
DTEND;TZID=UTC:20250304T235900
DTSTAMP:20260423T134204
CREATED:20250202T131410Z
LAST-MODIFIED:20250202T131410Z
UID:2716-1741120380-1741132740@leertrekkers.nl
SUMMARY:Vaste’Laovendsbal en pop verbranden
DESCRIPTION:
URL:https://leertrekkers.nl/event/vastelaovendsbal-en-pop-verbranden/
LOCATION:Gildehuis\, Pastoor van Sonsbeeckstraat 4\, Stökkum\, Nederland
END:VEVENT
END:VCALENDAR