BEGIN:VCALENDAR
VERSION:2.0
PRODID:-//Carnavalsvereniging de Leertrekkers - ECPv6.15.20//NONSGML v1.0//EN
CALSCALE:GREGORIAN
METHOD:PUBLISH
X-WR-CALNAME:Carnavalsvereniging de Leertrekkers
X-ORIGINAL-URL:https://leertrekkers.nl
X-WR-CALDESC:Evenementen voor Carnavalsvereniging de Leertrekkers
REFRESH-INTERVAL;VALUE=DURATION:PT1H
X-Robots-Tag:noindex
X-PUBLISHED-TTL:PT1H
BEGIN:VTIMEZONE
TZID:UTC
BEGIN:STANDARD
TZOFFSETFROM:+0000
TZOFFSETTO:+0000
TZNAME:UTC
DTSTART:20240101T000000
END:STANDARD
END:VTIMEZONE
BEGIN:VEVENT
DTSTART;VALUE=DATE:20250118
DTEND;VALUE=DATE:20250119
DTSTAMP:20260423T171822
CREATED:20231026T170845Z
LAST-MODIFIED:20240904T141551Z
UID:2216-1737158400-1737244799@leertrekkers.nl
SUMMARY:Januari pronkzitting
DESCRIPTION:
URL:https://leertrekkers.nl/event/januari-pronkzitting/
LOCATION:Gildehuis\, Pastoor van Sonsbeeckstraat 4\, Stökkum\, Nederland
END:VEVENT
END:VCALENDAR