BEGIN:VCALENDAR
VERSION:2.0
PRODID:-//Carnavalsvereniging de Leertrekkers - ECPv6.15.20//NONSGML v1.0//EN
CALSCALE:GREGORIAN
METHOD:PUBLISH
X-WR-CALNAME:Carnavalsvereniging de Leertrekkers
X-ORIGINAL-URL:https://leertrekkers.nl
X-WR-CALDESC:Evenementen voor Carnavalsvereniging de Leertrekkers
REFRESH-INTERVAL;VALUE=DURATION:PT1H
X-Robots-Tag:noindex
X-PUBLISHED-TTL:PT1H
BEGIN:VTIMEZONE
TZID:UTC
BEGIN:STANDARD
TZOFFSETFROM:+0000
TZOFFSETTO:+0000
TZNAME:UTC
DTSTART:20230101T000000
END:STANDARD
END:VTIMEZONE
BEGIN:VEVENT
DTSTART;VALUE=DATE:20241116
DTEND;VALUE=DATE:20241117
DTSTAMP:20260423T201724
CREATED:20230413T112616Z
LAST-MODIFIED:20240408T134046Z
UID:2202-1731715200-1731801599@leertrekkers.nl
SUMMARY:November pronkzitting
DESCRIPTION:
URL:https://leertrekkers.nl/event/november-pronkzitting/
LOCATION:Gildehuis\, Pastoor van Sonsbeeckstraat 4\, Stökkum\, Nederland
END:VEVENT
END:VCALENDAR